BEGIN:VCALENDAR
VERSION:2.0
PRODID:-//Gifford Golf Club - ECPv6.8.3//NONSGML v1.0//EN
CALSCALE:GREGORIAN
METHOD:PUBLISH
X-WR-CALNAME:Gifford Golf Club
X-ORIGINAL-URL:https://www.giffordgolfclub.com
X-WR-CALDESC:Events for Gifford Golf Club
REFRESH-INTERVAL;VALUE=DURATION:PT1H
X-Robots-Tag:noindex
X-PUBLISHED-TTL:PT1H
BEGIN:VTIMEZONE
TZID:Europe/London
BEGIN:DAYLIGHT
TZOFFSETFROM:+0000
TZOFFSETTO:+0100
TZNAME:BST
DTSTART:20250330T010000
END:DAYLIGHT
BEGIN:STANDARD
TZOFFSETFROM:+0100
TZOFFSETTO:+0000
TZNAME:GMT
DTSTART:20251026T010000
END:STANDARD
END:VTIMEZONE
BEGIN:VEVENT
DTSTART;TZID=Europe/London:20250521T100000
DTEND;TZID=Europe/London:20250521T140000
DTSTAMP:20260421T140917
CREATED:20241218T091559Z
LAST-MODIFIED:20241218T091559Z
UID:2019-1747821600-1747836000@www.giffordgolfclub.com
SUMMARY:Gents Friendly v Winterfield (A)
DESCRIPTION:
URL:https://www.giffordgolfclub.com/event/gents-friendly-v-winterfield-a-2/
LOCATION:Winterfield Golf Club
CATEGORIES:Gents
END:VEVENT
END:VCALENDAR