BEGIN:VCALENDAR
VERSION:2.0
PRODID:-//Gifford Golf Club - ECPv6.8.3//NONSGML v1.0//EN
CALSCALE:GREGORIAN
METHOD:PUBLISH
X-WR-CALNAME:Gifford Golf Club
X-ORIGINAL-URL:https://www.giffordgolfclub.com
X-WR-CALDESC:Events for Gifford Golf Club
REFRESH-INTERVAL;VALUE=DURATION:PT1H
X-Robots-Tag:noindex
X-PUBLISHED-TTL:PT1H
BEGIN:VTIMEZONE
TZID:Europe/London
BEGIN:DAYLIGHT
TZOFFSETFROM:+0000
TZOFFSETTO:+0100
TZNAME:BST
DTSTART:20240331T010000
END:DAYLIGHT
BEGIN:STANDARD
TZOFFSETFROM:+0100
TZOFFSETTO:+0000
TZNAME:GMT
DTSTART:20241027T010000
END:STANDARD
END:VTIMEZONE
BEGIN:VEVENT
DTSTART;TZID=Europe/London:20241006T080000
DTEND;TZID=Europe/London:20241006T130000
DTSTAMP:20260426T040402
CREATED:20240622T150754Z
LAST-MODIFIED:20240622T150754Z
UID:1755-1728201600-1728219600@www.giffordgolfclub.com
SUMMARY:18 Hole Strokeplay Medal
DESCRIPTION:
URL:https://www.giffordgolfclub.com/event/18-hole-strokeplay-medal-3/
CATEGORIES:Gents,Ladies
END:VEVENT
BEGIN:VEVENT
DTSTART;TZID=Europe/London:20241012T090000
DTEND;TZID=Europe/London:20241012T100000
DTSTAMP:20260426T040402
CREATED:20240622T150921Z
LAST-MODIFIED:20240622T150921Z
UID:1759-1728723600-1728727200@www.giffordgolfclub.com
SUMMARY:Cranston Medal (Monthly Medal Winners)
DESCRIPTION:
URL:https://www.giffordgolfclub.com/event/cranston-medal-monthly-medal-winners/
CATEGORIES:Gents,Ladies
END:VEVENT
BEGIN:VEVENT
DTSTART;TZID=Europe/London:20241013T090000
DTEND;TZID=Europe/London:20241013T130000
DTSTAMP:20260426T040402
CREATED:20240622T150955Z
LAST-MODIFIED:20240622T150955Z
UID:1761-1728810000-1728824400@www.giffordgolfclub.com
SUMMARY:Gents Winter Greensomes 1
DESCRIPTION:
URL:https://www.giffordgolfclub.com/event/gents-winter-greensomes-1/
CATEGORIES:Gents
END:VEVENT
BEGIN:VEVENT
DTSTART;TZID=Europe/London:20241019T090000
DTEND;TZID=Europe/London:20241019T103000
DTSTAMP:20260426T040402
CREATED:20240622T151058Z
LAST-MODIFIED:20240622T152646Z
UID:1763-1729328400-1729333800@www.giffordgolfclub.com
SUMMARY:Gents Winter Tankard 1
DESCRIPTION:
URL:https://www.giffordgolfclub.com/event/gents-winter-tankard-1/
CATEGORIES:Gents
END:VEVENT
BEGIN:VEVENT
DTSTART;TZID=Europe/London:20241026T090000
DTEND;TZID=Europe/London:20241026T120000
DTSTAMP:20260426T040402
CREATED:20240622T152746Z
LAST-MODIFIED:20240622T152849Z
UID:1766-1729933200-1729944000@www.giffordgolfclub.com
SUMMARY:Bangers Par 3
DESCRIPTION:
URL:https://www.giffordgolfclub.com/event/bangers-par-3/
CATEGORIES:Gents,Ladies,Social
END:VEVENT
END:VCALENDAR