BEGIN:VCALENDAR
VERSION:2.0
PRODID:-//Gifford Golf Club - ECPv6.8.3//NONSGML v1.0//EN
CALSCALE:GREGORIAN
METHOD:PUBLISH
X-WR-CALNAME:Gifford Golf Club
X-ORIGINAL-URL:https://www.giffordgolfclub.com
X-WR-CALDESC:Events for Gifford Golf Club
REFRESH-INTERVAL;VALUE=DURATION:PT1H
X-Robots-Tag:noindex
X-PUBLISHED-TTL:PT1H
BEGIN:VTIMEZONE
TZID:Europe/London
BEGIN:DAYLIGHT
TZOFFSETFROM:+0000
TZOFFSETTO:+0100
TZNAME:BST
DTSTART:20250330T010000
END:DAYLIGHT
BEGIN:STANDARD
TZOFFSETFROM:+0100
TZOFFSETTO:+0000
TZNAME:GMT
DTSTART:20251026T010000
END:STANDARD
BEGIN:DAYLIGHT
TZOFFSETFROM:+0000
TZOFFSETTO:+0100
TZNAME:BST
DTSTART:20260329T010000
END:DAYLIGHT
BEGIN:STANDARD
TZOFFSETFROM:+0100
TZOFFSETTO:+0000
TZNAME:GMT
DTSTART:20261025T010000
END:STANDARD
END:VTIMEZONE
BEGIN:VEVENT
DTSTART;TZID=Europe/London:20251018T090000
DTEND;TZID=Europe/London:20251018T103000
DTSTAMP:20260425T164449
CREATED:20241221T120358Z
LAST-MODIFIED:20241221T120358Z
UID:2211-1760778000-1760783400@www.giffordgolfclub.com
SUMMARY:Gents Winter Eclectic II - 18 Hole Strokeplay
DESCRIPTION:
URL:https://www.giffordgolfclub.com/event/gents-winter-eclectic-ii-18-hole-strokeplay/
LOCATION:Gifford Golf Club\, EH41 4JE
CATEGORIES:Gents
END:VEVENT
BEGIN:VEVENT
DTSTART;TZID=Europe/London:20251024T080000
DTEND;TZID=Europe/London:20251024T170000
DTSTAMP:20260425T164449
CREATED:20241221T120433Z
LAST-MODIFIED:20241221T120433Z
UID:2213-1761292800-1761325200@www.giffordgolfclub.com
SUMMARY:9 Hole Stableford Medal (Red Tees)
DESCRIPTION:
URL:https://www.giffordgolfclub.com/event/9-hole-stableford-medal-red-tees-6/
LOCATION:Gifford Golf Club\, EH41 4JE
CATEGORIES:Gents,Juniors,Ladies
END:VEVENT
BEGIN:VEVENT
DTSTART;TZID=Europe/London:20251108T090000
DTEND;TZID=Europe/London:20251108T103000
DTSTAMP:20260425T164449
CREATED:20241221T121227Z
LAST-MODIFIED:20241221T121227Z
UID:2223-1762592400-1762597800@www.giffordgolfclub.com
SUMMARY:Gents Winter Eclectic III - 18 Hole Strokeplay
DESCRIPTION:
URL:https://www.giffordgolfclub.com/event/gents-winter-eclectic-iii-18-hole-strokeplay/
LOCATION:Gifford Golf Club\, EH41 4JE
CATEGORIES:Gents
END:VEVENT
BEGIN:VEVENT
DTSTART;TZID=Europe/London:20251116T090000
DTEND;TZID=Europe/London:20251116T103000
DTSTAMP:20260425T164449
CREATED:20241221T121303Z
LAST-MODIFIED:20241221T121303Z
UID:2225-1763283600-1763289000@www.giffordgolfclub.com
SUMMARY:Gents Winter Eclectic IV - 18 Hole Strokeplay
DESCRIPTION:
URL:https://www.giffordgolfclub.com/event/gents-winter-eclectic-iv-18-hole-strokeplay/
LOCATION:Gifford Golf Club\, EH41 4JE
CATEGORIES:Gents
END:VEVENT
BEGIN:VEVENT
DTSTART;TZID=Europe/London:20251129T090000
DTEND;TZID=Europe/London:20251129T103000
DTSTAMP:20260425T164449
CREATED:20241221T121336Z
LAST-MODIFIED:20241221T121336Z
UID:2227-1764406800-1764412200@www.giffordgolfclub.com
SUMMARY:Gents Winter Eclectic V - 18 Hole Strokeplay
DESCRIPTION:
URL:https://www.giffordgolfclub.com/event/gents-winter-eclectic-v-18-hole-strokeplay/
LOCATION:Gifford Golf Club\, EH41 4JE
CATEGORIES:Gents
END:VEVENT
BEGIN:VEVENT
DTSTART;TZID=Europe/London:20251207T090000
DTEND;TZID=Europe/London:20251207T103000
DTSTAMP:20260425T164449
CREATED:20241221T121415Z
LAST-MODIFIED:20241221T121415Z
UID:2229-1765098000-1765103400@www.giffordgolfclub.com
SUMMARY:Gents Winter Eclectic VI - 18 Hole Strokeplay
DESCRIPTION:
URL:https://www.giffordgolfclub.com/event/gents-winter-eclectic-vi-18-hole-strokeplay/
LOCATION:Gifford Golf Club\, EH41 4JE
CATEGORIES:Gents
END:VEVENT
BEGIN:VEVENT
DTSTART;TZID=Europe/London:20260110T120000
DTEND;TZID=Europe/London:20260110T120000
DTSTAMP:20260425T164449
CREATED:20241221T122520Z
LAST-MODIFIED:20241221T122520Z
UID:2256-1768046400-1768046400@www.giffordgolfclub.com
SUMMARY:Annual Prizegiving + 9 Hole Scramble
DESCRIPTION:
URL:https://www.giffordgolfclub.com/event/annual-prizegiving-9-hole-scramble/
LOCATION:Gifford Golf Club\, EH41 4JE
CATEGORIES:Gents,Juniors,Ladies
END:VEVENT
BEGIN:VEVENT
DTSTART;TZID=Europe/London:20260207T090000
DTEND;TZID=Europe/London:20260207T103000
DTSTAMP:20260425T164449
CREATED:20241221T121456Z
LAST-MODIFIED:20241221T121456Z
UID:2231-1770454800-1770460200@www.giffordgolfclub.com
SUMMARY:Gents Winter Eclectic VII - 18 Hole Strokeplay
DESCRIPTION:
URL:https://www.giffordgolfclub.com/event/gents-winter-eclectic-vii-18-hole-strokeplay/
LOCATION:Gifford Golf Club\, EH41 4JE
CATEGORIES:Gents
END:VEVENT
BEGIN:VEVENT
DTSTART;TZID=Europe/London:20260215T090000
DTEND;TZID=Europe/London:20260215T100000
DTSTAMP:20260425T164449
CREATED:20241221T121545Z
LAST-MODIFIED:20241221T121545Z
UID:2233-1771146000-1771149600@www.giffordgolfclub.com
SUMMARY:Gents Winter Eclectic VIII - 18 Hole Strokeplay
DESCRIPTION:
URL:https://www.giffordgolfclub.com/event/gents-winter-eclectic-viii-18-hole-strokeplay/
LOCATION:Gifford Golf Club\, EH41 4JE
CATEGORIES:Gents
END:VEVENT
BEGIN:VEVENT
DTSTART;TZID=Europe/London:20260307T090000
DTEND;TZID=Europe/London:20260307T103000
DTSTAMP:20260425T164449
CREATED:20241221T121631Z
LAST-MODIFIED:20241221T121631Z
UID:2235-1772874000-1772879400@www.giffordgolfclub.com
SUMMARY:Gents Winter Eclectic IX - 18 Hole Strokeplay
DESCRIPTION:
URL:https://www.giffordgolfclub.com/event/gents-winter-eclectic-ix-18-hole-strokeplay/
LOCATION:Gifford Golf Club\, EH41 4JE
CATEGORIES:Gents
END:VEVENT
END:VCALENDAR