BEGIN:VCALENDAR
VERSION:2.0
PRODID:-//Gifford Golf Club - ECPv6.8.3//NONSGML v1.0//EN
CALSCALE:GREGORIAN
METHOD:PUBLISH
X-ORIGINAL-URL:https://www.giffordgolfclub.com
X-WR-CALDESC:Events for Gifford Golf Club
REFRESH-INTERVAL;VALUE=DURATION:PT1H
X-Robots-Tag:noindex
X-PUBLISHED-TTL:PT1H
BEGIN:VTIMEZONE
TZID:Europe/London
BEGIN:DAYLIGHT
TZOFFSETFROM:+0000
TZOFFSETTO:+0100
TZNAME:BST
DTSTART:20240331T010000
END:DAYLIGHT
BEGIN:STANDARD
TZOFFSETFROM:+0100
TZOFFSETTO:+0000
TZNAME:GMT
DTSTART:20241027T010000
END:STANDARD
BEGIN:DAYLIGHT
TZOFFSETFROM:+0000
TZOFFSETTO:+0100
TZNAME:BST
DTSTART:20250330T010000
END:DAYLIGHT
BEGIN:STANDARD
TZOFFSETFROM:+0100
TZOFFSETTO:+0000
TZNAME:GMT
DTSTART:20251026T010000
END:STANDARD
END:VTIMEZONE
BEGIN:VEVENT
DTSTART;TZID=Europe/London:20250726T080000
DTEND;TZID=Europe/London:20250726T140000
DTSTAMP:20260425T013757
CREATED:20241220T095531Z
LAST-MODIFIED:20241220T095531Z
UID:2121-1753516800-1753538400@www.giffordgolfclub.com
SUMMARY:Texas Scramble Open
DESCRIPTION:
URL:https://www.giffordgolfclub.com/event/texas-scramble-open/
LOCATION:Gifford Golf Club\, EH41 4JE
CATEGORIES:Gents,Juniors,Ladies,Open Competitions
END:VEVENT
BEGIN:VEVENT
DTSTART;TZID=Europe/London:20250725T000000
DTEND;TZID=Europe/London:20250725T235959
DTSTAMP:20260425T013757
CREATED:20241220T095401Z
LAST-MODIFIED:20241220T095401Z
UID:2119-1753401600-1753487999@www.giffordgolfclub.com
SUMMARY:9 Hole Stableford Medal (Red Tees)
DESCRIPTION:
URL:https://www.giffordgolfclub.com/event/9-hole-stableford-medal-red-tees-3/
LOCATION:Gifford Golf Club\, EH41 4JE
CATEGORIES:Gents,Juniors,Ladies
END:VEVENT
BEGIN:VEVENT
DTSTART;TZID=Europe/London:20250723T000000
DTEND;TZID=Europe/London:20250723T235959
DTSTAMP:20260425T013757
CREATED:20241220T095059Z
LAST-MODIFIED:20241220T095111Z
UID:2112-1753228800-1753315199@www.giffordgolfclub.com
SUMMARY:Gents Friendly v Dirleton Castle (A)
DESCRIPTION:
URL:https://www.giffordgolfclub.com/event/gents-friendly-v-dirleton-castle-a-2/
LOCATION:Gullane Golf Club\, EH31 2BB
CATEGORIES:Gents
END:VEVENT
BEGIN:VEVENT
DTSTART;TZID=Europe/London:20250716T130000
DTEND;TZID=Europe/London:20250716T173000
DTSTAMP:20260425T013757
CREATED:20241220T094546Z
LAST-MODIFIED:20241220T094546Z
UID:2101-1752670800-1752687000@www.giffordgolfclub.com
SUMMARY:18 Hole Stableford Meda
DESCRIPTION:
URL:https://www.giffordgolfclub.com/event/18-hole-stableford-meda/
LOCATION:Gifford Golf Club\, EH41 4JE
CATEGORIES:Gents,Juniors,Ladies
END:VEVENT
BEGIN:VEVENT
DTSTART;TZID=Europe/London:20250706T080000
DTEND;TZID=Europe/London:20250706T130000
DTSTAMP:20260425T013757
CREATED:20241220T090853Z
LAST-MODIFIED:20241220T090853Z
UID:2093-1751788800-1751806800@www.giffordgolfclub.com
SUMMARY:18 Hole Strokeplay Medal
DESCRIPTION:
URL:https://www.giffordgolfclub.com/event/18-hole-strokeplay-medal-5/
LOCATION:Gifford Golf Club\, EH41 4JE
CATEGORIES:Gents,Juniors,Ladies
END:VEVENT
BEGIN:VEVENT
DTSTART;TZID=Europe/London:20250629T090000
DTEND;TZID=Europe/London:20250629T160000
DTSTAMP:20260425T013757
CREATED:20241218T093652Z
LAST-MODIFIED:20241218T093652Z
UID:2073-1751187600-1751212800@www.giffordgolfclub.com
SUMMARY:Championship Finals (Gents A + B\, Ladies & Juniors)
DESCRIPTION:
URL:https://www.giffordgolfclub.com/event/championship-finals-gents-a-b-ladies-juniors-2/
LOCATION:Gifford Golf Club\, EH41 4JE
CATEGORIES:Gents,Juniors,Ladies
END:VEVENT
BEGIN:VEVENT
DTSTART;TZID=Europe/London:20250628T140000
DTEND;TZID=Europe/London:20250628T160000
DTSTAMP:20260425T013757
CREATED:20241218T093616Z
LAST-MODIFIED:20241218T093616Z
UID:2071-1751119200-1751126400@www.giffordgolfclub.com
SUMMARY:Championship Semi-Finals (Gents A + B\, Ladies & Juniors)
DESCRIPTION:
URL:https://www.giffordgolfclub.com/event/championship-semi-finals-gents-a-b-ladies-juniors-2/
LOCATION:Gifford Golf Club\, EH41 4JE
CATEGORIES:Gents,Juniors,Ladies
END:VEVENT
BEGIN:VEVENT
DTSTART;TZID=Europe/London:20250627T080000
DTEND;TZID=Europe/London:20250627T170000
DTSTAMP:20260425T013757
CREATED:20241218T093506Z
LAST-MODIFIED:20241218T093506Z
UID:2069-1751011200-1751043600@www.giffordgolfclub.com
SUMMARY:9 Hole Stableford Medal (Red Tees)
DESCRIPTION:
URL:https://www.giffordgolfclub.com/event/9-hole-stableford-medal-red-tees-2/
LOCATION:Gifford Golf Club\, EH41 4JE
CATEGORIES:Gents,Juniors,Ladies
END:VEVENT
BEGIN:VEVENT
DTSTART;TZID=Europe/London:20250618T130000
DTEND;TZID=Europe/London:20250618T173000
DTSTAMP:20260425T013757
CREATED:20241218T093021Z
LAST-MODIFIED:20241218T093021Z
UID:2056-1750251600-1750267800@www.giffordgolfclub.com
SUMMARY:18 Hole Stableford Medal
DESCRIPTION:
URL:https://www.giffordgolfclub.com/event/18-hole-stableford-medal-5/
LOCATION:Gifford Golf Club\, EH41 4JE
CATEGORIES:Gents,Juniors,Ladies
END:VEVENT
BEGIN:VEVENT
DTSTART;TZID=Europe/London:20250601T080000
DTEND;TZID=Europe/London:20250601T130000
DTSTAMP:20260425T013757
CREATED:20241218T092150Z
LAST-MODIFIED:20241218T092150Z
UID:2035-1748764800-1748782800@www.giffordgolfclub.com
SUMMARY:18 Hole Strokeplay Medal Mixed
DESCRIPTION:
URL:https://www.giffordgolfclub.com/event/18-hole-strokeplay-medal-mixed-2/
LOCATION:Gifford Golf Club\, EH41 4JE
CATEGORIES:Gents,Juniors,Ladies
END:VEVENT
BEGIN:VEVENT
DTSTART;TZID=Europe/London:20250528T170000
DTEND;TZID=Europe/London:20250528T180000
DTSTAMP:20260425T013757
CREATED:20241218T091922Z
LAST-MODIFIED:20241218T091922Z
UID:2029-1748451600-1748455200@www.giffordgolfclub.com
SUMMARY:Gents Friendly v Winterfield (H)
DESCRIPTION:
URL:https://www.giffordgolfclub.com/event/gents-friendly-v-winterfield-h-2/
LOCATION:Gifford Golf Club\, EH41 4JE
CATEGORIES:Gents
END:VEVENT
BEGIN:VEVENT
DTSTART;TZID=Europe/London:20250524T080000
DTEND;TZID=Europe/London:20250524T170000
DTSTAMP:20260425T013757
CREATED:20241218T091734Z
LAST-MODIFIED:20241221T112052Z
UID:2024-1748073600-1748106000@www.giffordgolfclub.com
SUMMARY:Two Person Texas Scramble Open
DESCRIPTION:
URL:https://www.giffordgolfclub.com/event/two-person-texas-scramble-open/
LOCATION:Gifford Golf Club\, EH41 4JE
CATEGORIES:Gents,Juniors,Ladies,Open Competitions
END:VEVENT
BEGIN:VEVENT
DTSTART;TZID=Europe/London:20250523T080000
DTEND;TZID=Europe/London:20250523T170000
DTSTAMP:20260425T013757
CREATED:20241218T091647Z
LAST-MODIFIED:20241218T091647Z
UID:2022-1747987200-1748019600@www.giffordgolfclub.com
SUMMARY:9 Hole Stableford Medal (Red Tees)
DESCRIPTION:
URL:https://www.giffordgolfclub.com/event/9-hole-stableford-medal-red-tees/
LOCATION:Gifford Golf Club\, EH41 4JE
CATEGORIES:Gents,Juniors,Ladies
END:VEVENT
BEGIN:VEVENT
DTSTART;TZID=Europe/London:20250521T100000
DTEND;TZID=Europe/London:20250521T140000
DTSTAMP:20260425T013757
CREATED:20241218T091559Z
LAST-MODIFIED:20241218T091559Z
UID:2019-1747821600-1747836000@www.giffordgolfclub.com
SUMMARY:Gents Friendly v Winterfield (A)
DESCRIPTION:
URL:https://www.giffordgolfclub.com/event/gents-friendly-v-winterfield-a-2/
LOCATION:Winterfield Golf Club
CATEGORIES:Gents
END:VEVENT
BEGIN:VEVENT
DTSTART;TZID=Europe/London:20250517T080000
DTEND;TZID=Europe/London:20250517T130000
DTSTAMP:20260425T013757
CREATED:20241218T091323Z
LAST-MODIFIED:20241218T091323Z
UID:2015-1747468800-1747486800@www.giffordgolfclub.com
SUMMARY:18 Hole Stableford Medal
DESCRIPTION:
URL:https://www.giffordgolfclub.com/event/18-hole-stableford-medal-4/
LOCATION:Gifford Golf Club\, EH41 4JE
CATEGORIES:Gents,Juniors,Ladies
END:VEVENT
BEGIN:VEVENT
DTSTART;TZID=Europe/London:20250510T140000
DTEND;TZID=Europe/London:20250510T153000
DTSTAMP:20260425T013757
CREATED:20241218T090631Z
LAST-MODIFIED:20241218T090631Z
UID:2003-1746885600-1746891000@www.giffordgolfclub.com
SUMMARY:Captain's v Vice Captain's / Committee
DESCRIPTION:
URL:https://www.giffordgolfclub.com/event/captains-v-vice-captains-committee/
LOCATION:Gifford Golf Club\, EH41 4JE
CATEGORIES:Gents,Juniors,Ladies
END:VEVENT
BEGIN:VEVENT
DTSTART;TZID=Europe/London:20250504T080000
DTEND;TZID=Europe/London:20250504T130000
DTSTAMP:20260425T013757
CREATED:20241218T090153Z
LAST-MODIFIED:20241218T090153Z
UID:1993-1746345600-1746363600@www.giffordgolfclub.com
SUMMARY:18 Hole Strokeplay Medal & 2nd Championship Qualifier (including Molly Glover Bowl & Junior Championship)
DESCRIPTION:
URL:https://www.giffordgolfclub.com/event/18-hole-strokeplay-medal-2nd-championship-qualifier-including-molly-glover-bowl-junior-championship/
LOCATION:Gifford Golf Club\, EH41 4JE
CATEGORIES:Gents,Juniors,Ladies
END:VEVENT
BEGIN:VEVENT
DTSTART;TZID=Europe/London:20250419T080000
DTEND;TZID=Europe/London:20250419T130000
DTSTAMP:20260425T013757
CREATED:20241218T085706Z
LAST-MODIFIED:20241218T085706Z
UID:1984-1745049600-1745067600@www.giffordgolfclub.com
SUMMARY:18 Hole Strokeplay Medal & 1st Championship Qualifier (including Molly Glover Bowl & Junior Championship)
DESCRIPTION:
URL:https://www.giffordgolfclub.com/event/18-hole-strokeplay-medal-1st-championship-qualifier-including-molly-glover-bowl-junior-championship/
LOCATION:Gifford Golf Club\, EH41 4JE
CATEGORIES:Gents,Juniors,Ladies
END:VEVENT
BEGIN:VEVENT
DTSTART;TZID=Europe/London:20250406T080000
DTEND;TZID=Europe/London:20250406T130000
DTSTAMP:20260425T013757
CREATED:20241217T175556Z
LAST-MODIFIED:20241217T175610Z
UID:1973-1743926400-1743944400@www.giffordgolfclub.com
SUMMARY:18 Hole Strokeplay Medal (Mixed)
DESCRIPTION:
URL:https://www.giffordgolfclub.com/event/18-hole-strokeplay-medal-mixed/
LOCATION:Gifford Golf Club\, EH41 4JE
CATEGORIES:Gents,Juniors,Ladies
END:VEVENT
BEGIN:VEVENT
DTSTART;TZID=Europe/London:20250316T090000
DTEND;TZID=Europe/London:20250316T100000
DTSTAMP:20260425T013757
CREATED:20241112T183214Z
LAST-MODIFIED:20241216T102644Z
UID:1841-1742115600-1742119200@www.giffordgolfclub.com
SUMMARY:Gents Winter Greensomes 5
DESCRIPTION:
URL:https://www.giffordgolfclub.com/event/gents-winter-greensomes-5-2/
LOCATION:Gifford Golf Club\, EH41 4JE
CATEGORIES:Gents
END:VEVENT
BEGIN:VEVENT
DTSTART;TZID=Europe/London:20250308T090000
DTEND;TZID=Europe/London:20250308T103000
DTSTAMP:20260425T013757
CREATED:20241112T182929Z
LAST-MODIFIED:20241216T102706Z
UID:1833-1741424400-1741429800@www.giffordgolfclub.com
SUMMARY:Gents Winter Tankard 5
DESCRIPTION:
URL:https://www.giffordgolfclub.com/event/gents-winter-tankard-5-2/
LOCATION:Gifford Golf Club\, EH41 4JE
CATEGORIES:Gents
END:VEVENT
BEGIN:VEVENT
DTSTART;TZID=Europe/London:20250216T090000
DTEND;TZID=Europe/London:20250216T100000
DTSTAMP:20260425T013757
CREATED:20241112T183144Z
LAST-MODIFIED:20241216T102737Z
UID:1839-1739696400-1739700000@www.giffordgolfclub.com
SUMMARY:Gents Winter Greensomes 4
DESCRIPTION:
URL:https://www.giffordgolfclub.com/event/gents-winter-greensomes-4-2/
LOCATION:Gifford Golf Club\, EH41 4JE
CATEGORIES:Gents
END:VEVENT
BEGIN:VEVENT
DTSTART;TZID=Europe/London:20250208T090000
DTEND;TZID=Europe/London:20250208T103000
DTSTAMP:20260425T013757
CREATED:20241112T182853Z
LAST-MODIFIED:20241216T102804Z
UID:1831-1739005200-1739010600@www.giffordgolfclub.com
SUMMARY:Gents Winter Tankard 4
DESCRIPTION:
URL:https://www.giffordgolfclub.com/event/gents-winter-tankard-4-2/
LOCATION:Gifford Golf Club\, EH41 4JE
CATEGORIES:Gents
END:VEVENT
BEGIN:VEVENT
DTSTART;TZID=Europe/London:20250111T120000
DTEND;TZID=Europe/London:20250111T120000
DTSTAMP:20260425T013757
CREATED:20241112T182650Z
LAST-MODIFIED:20241208T085150Z
UID:1825-1736596800-1736596800@www.giffordgolfclub.com
SUMMARY:Annual Prizegiving & 9-Hole Scramble Shotgun
DESCRIPTION:
URL:https://www.giffordgolfclub.com/event/annual-prizegiving-9-hole-scramble-shotgun/
LOCATION:Gifford Golf Club\, EH41 4JE
CATEGORIES:Gents,Juniors,Ladies
END:VEVENT
BEGIN:VEVENT
DTSTART;TZID=Europe/London:20241208T090000
DTEND;TZID=Europe/London:20241208T100000
DTSTAMP:20260425T013757
CREATED:20240622T154045Z
LAST-MODIFIED:20241216T102925Z
UID:1786-1733648400-1733652000@www.giffordgolfclub.com
SUMMARY:Gents Winter Greensomes 3
DESCRIPTION:
URL:https://www.giffordgolfclub.com/event/gents-winter-greensomes-3/
LOCATION:Gifford Golf Club\, EH41 4JE
CATEGORIES:Gents
END:VEVENT
BEGIN:VEVENT
DTSTART;TZID=Europe/London:20241130T090000
DTEND;TZID=Europe/London:20241130T103000
DTSTAMP:20260425T013757
CREATED:20240622T153404Z
LAST-MODIFIED:20240622T153901Z
UID:1781-1732957200-1732962600@www.giffordgolfclub.com
SUMMARY:Gents Winter Tankard 3
DESCRIPTION:
URL:https://www.giffordgolfclub.com/event/gents-winter-tankard-3/
CATEGORIES:Gents
END:VEVENT
BEGIN:VEVENT
DTSTART;TZID=Europe/London:20241117T090000
DTEND;TZID=Europe/London:20241117T100000
DTSTAMP:20260425T013757
CREATED:20240622T153236Z
LAST-MODIFIED:20240622T153236Z
UID:1777-1731834000-1731837600@www.giffordgolfclub.com
SUMMARY:Gents Winter Greensomes 2
DESCRIPTION:
URL:https://www.giffordgolfclub.com/event/gents-winter-greensomes-2/
CATEGORIES:Gents
END:VEVENT
BEGIN:VEVENT
DTSTART;TZID=Europe/London:20241109T090000
DTEND;TZID=Europe/London:20241109T103000
DTSTAMP:20260425T013757
CREATED:20240622T153111Z
LAST-MODIFIED:20240622T153111Z
UID:1773-1731142800-1731148200@www.giffordgolfclub.com
SUMMARY:Gents Winter Tankard 2
DESCRIPTION:
URL:https://www.giffordgolfclub.com/event/gents-winter-tankard-2/
CATEGORIES:Gents
END:VEVENT
BEGIN:VEVENT
DTSTART;TZID=Europe/London:20241103T080000
DTEND;TZID=Europe/London:20241103T130000
DTSTAMP:20260425T013757
CREATED:20240622T153028Z
LAST-MODIFIED:20240622T153028Z
UID:1771-1730620800-1730638800@www.giffordgolfclub.com
SUMMARY:18 Hole Strokeplay Medal
DESCRIPTION:
URL:https://www.giffordgolfclub.com/event/18-hole-strokeplay-medal-4/
CATEGORIES:Gents,Ladies
END:VEVENT
BEGIN:VEVENT
DTSTART;TZID=Europe/London:20241026T090000
DTEND;TZID=Europe/London:20241026T120000
DTSTAMP:20260425T013757
CREATED:20240622T152746Z
LAST-MODIFIED:20240622T152849Z
UID:1766-1729933200-1729944000@www.giffordgolfclub.com
SUMMARY:Bangers Par 3
DESCRIPTION:
URL:https://www.giffordgolfclub.com/event/bangers-par-3/
CATEGORIES:Gents,Ladies,Social
END:VEVENT
END:VCALENDAR