BEGIN:VCALENDAR
VERSION:2.0
PRODID:-//Gifford Golf Club - ECPv6.8.3//NONSGML v1.0//EN
CALSCALE:GREGORIAN
METHOD:PUBLISH
X-WR-CALNAME:Gifford Golf Club
X-ORIGINAL-URL:https://www.giffordgolfclub.com
X-WR-CALDESC:Events for Gifford Golf Club
REFRESH-INTERVAL;VALUE=DURATION:PT1H
X-Robots-Tag:noindex
X-PUBLISHED-TTL:PT1H
BEGIN:VTIMEZONE
TZID:Europe/London
BEGIN:DAYLIGHT
TZOFFSETFROM:+0000
TZOFFSETTO:+0100
TZNAME:BST
DTSTART:20240331T010000
END:DAYLIGHT
BEGIN:STANDARD
TZOFFSETFROM:+0100
TZOFFSETTO:+0000
TZNAME:GMT
DTSTART:20241027T010000
END:STANDARD
END:VTIMEZONE
BEGIN:VEVENT
DTSTART;TZID=Europe/London:20241208T090000
DTEND;TZID=Europe/London:20241208T100000
DTSTAMP:20260425T045837
CREATED:20240622T154045Z
LAST-MODIFIED:20241216T102925Z
UID:1786-1733648400-1733652000@www.giffordgolfclub.com
SUMMARY:Gents Winter Greensomes 3
DESCRIPTION:
URL:https://www.giffordgolfclub.com/event/gents-winter-greensomes-3/
LOCATION:Gifford Golf Club\, EH41 4JE
CATEGORIES:Gents
END:VEVENT
BEGIN:VEVENT
DTSTART;TZID=Europe/London:20241130T090000
DTEND;TZID=Europe/London:20241130T103000
DTSTAMP:20260425T045837
CREATED:20240622T153404Z
LAST-MODIFIED:20240622T153901Z
UID:1781-1732957200-1732962600@www.giffordgolfclub.com
SUMMARY:Gents Winter Tankard 3
DESCRIPTION:
URL:https://www.giffordgolfclub.com/event/gents-winter-tankard-3/
CATEGORIES:Gents
END:VEVENT
BEGIN:VEVENT
DTSTART;TZID=Europe/London:20241117T090000
DTEND;TZID=Europe/London:20241117T100000
DTSTAMP:20260425T045837
CREATED:20240622T153236Z
LAST-MODIFIED:20240622T153236Z
UID:1777-1731834000-1731837600@www.giffordgolfclub.com
SUMMARY:Gents Winter Greensomes 2
DESCRIPTION:
URL:https://www.giffordgolfclub.com/event/gents-winter-greensomes-2/
CATEGORIES:Gents
END:VEVENT
BEGIN:VEVENT
DTSTART;TZID=Europe/London:20241109T090000
DTEND;TZID=Europe/London:20241109T103000
DTSTAMP:20260425T045837
CREATED:20240622T153111Z
LAST-MODIFIED:20240622T153111Z
UID:1773-1731142800-1731148200@www.giffordgolfclub.com
SUMMARY:Gents Winter Tankard 2
DESCRIPTION:
URL:https://www.giffordgolfclub.com/event/gents-winter-tankard-2/
CATEGORIES:Gents
END:VEVENT
BEGIN:VEVENT
DTSTART;TZID=Europe/London:20241103T080000
DTEND;TZID=Europe/London:20241103T130000
DTSTAMP:20260425T045837
CREATED:20240622T153028Z
LAST-MODIFIED:20240622T153028Z
UID:1771-1730620800-1730638800@www.giffordgolfclub.com
SUMMARY:18 Hole Strokeplay Medal
DESCRIPTION:
URL:https://www.giffordgolfclub.com/event/18-hole-strokeplay-medal-4/
CATEGORIES:Gents,Ladies
END:VEVENT
BEGIN:VEVENT
DTSTART;TZID=Europe/London:20241026T090000
DTEND;TZID=Europe/London:20241026T120000
DTSTAMP:20260425T045837
CREATED:20240622T152746Z
LAST-MODIFIED:20240622T152849Z
UID:1766-1729933200-1729944000@www.giffordgolfclub.com
SUMMARY:Bangers Par 3
DESCRIPTION:
URL:https://www.giffordgolfclub.com/event/bangers-par-3/
CATEGORIES:Gents,Ladies,Social
END:VEVENT
BEGIN:VEVENT
DTSTART;TZID=Europe/London:20241019T090000
DTEND;TZID=Europe/London:20241019T103000
DTSTAMP:20260425T045837
CREATED:20240622T151058Z
LAST-MODIFIED:20240622T152646Z
UID:1763-1729328400-1729333800@www.giffordgolfclub.com
SUMMARY:Gents Winter Tankard 1
DESCRIPTION:
URL:https://www.giffordgolfclub.com/event/gents-winter-tankard-1/
CATEGORIES:Gents
END:VEVENT
BEGIN:VEVENT
DTSTART;TZID=Europe/London:20241013T090000
DTEND;TZID=Europe/London:20241013T130000
DTSTAMP:20260425T045837
CREATED:20240622T150955Z
LAST-MODIFIED:20240622T150955Z
UID:1761-1728810000-1728824400@www.giffordgolfclub.com
SUMMARY:Gents Winter Greensomes 1
DESCRIPTION:
URL:https://www.giffordgolfclub.com/event/gents-winter-greensomes-1/
CATEGORIES:Gents
END:VEVENT
BEGIN:VEVENT
DTSTART;TZID=Europe/London:20241012T090000
DTEND;TZID=Europe/London:20241012T100000
DTSTAMP:20260425T045837
CREATED:20240622T150921Z
LAST-MODIFIED:20240622T150921Z
UID:1759-1728723600-1728727200@www.giffordgolfclub.com
SUMMARY:Cranston Medal (Monthly Medal Winners)
DESCRIPTION:
URL:https://www.giffordgolfclub.com/event/cranston-medal-monthly-medal-winners/
CATEGORIES:Gents,Ladies
END:VEVENT
BEGIN:VEVENT
DTSTART;TZID=Europe/London:20241006T080000
DTEND;TZID=Europe/London:20241006T130000
DTSTAMP:20260425T045837
CREATED:20240622T150754Z
LAST-MODIFIED:20240622T150754Z
UID:1755-1728201600-1728219600@www.giffordgolfclub.com
SUMMARY:18 Hole Strokeplay Medal
DESCRIPTION:
URL:https://www.giffordgolfclub.com/event/18-hole-strokeplay-medal-3/
CATEGORIES:Gents,Ladies
END:VEVENT
BEGIN:VEVENT
DTSTART;TZID=Europe/London:20240927T080000
DTEND;TZID=Europe/London:20240927T170000
DTSTAMP:20260425T045837
CREATED:20240622T150022Z
LAST-MODIFIED:20240622T150022Z
UID:1750-1727424000-1727456400@www.giffordgolfclub.com
SUMMARY:9 Hole Stableford Medal
DESCRIPTION:
URL:https://www.giffordgolfclub.com/event/9-hole-stableford-medal-5/
CATEGORIES:Gents,Ladies
END:VEVENT
BEGIN:VEVENT
DTSTART;TZID=Europe/London:20240914T080000
DTEND;TZID=Europe/London:20240914T130000
DTSTAMP:20260425T045837
CREATED:20240622T145514Z
LAST-MODIFIED:20240622T145514Z
UID:1744-1726300800-1726318800@www.giffordgolfclub.com
SUMMARY:18 Hole Stableford Medal
DESCRIPTION:
URL:https://www.giffordgolfclub.com/event/18-hole-stableford-medal-3/
CATEGORIES:Gents,Ladies
END:VEVENT
BEGIN:VEVENT
DTSTART;TZID=Europe/London:20240901T080000
DTEND;TZID=Europe/London:20240901T130000
DTSTAMP:20260425T045837
CREATED:20240622T145150Z
LAST-MODIFIED:20240622T145235Z
UID:1733-1725177600-1725195600@www.giffordgolfclub.com
SUMMARY:18 Hole Strokeplay Medal
DESCRIPTION:
URL:https://www.giffordgolfclub.com/event/18-hole-strokeplay-medal-2/
CATEGORIES:Gents,Ladies
END:VEVENT
BEGIN:VEVENT
DTSTART;TZID=Europe/London:20240825T143000
DTEND;TZID=Europe/London:20240825T170000
DTSTAMP:20260425T045837
CREATED:20240622T144209Z
LAST-MODIFIED:20240622T144209Z
UID:1727-1724596200-1724605200@www.giffordgolfclub.com
SUMMARY:Captains v Vice Captains Social Texas Scramble - 9 Holes
DESCRIPTION:
URL:https://www.giffordgolfclub.com/event/captains-v-vice-captains-social-texas-scramble-9-holes/
CATEGORIES:Gents,Ladies,Social
END:VEVENT
BEGIN:VEVENT
DTSTART;TZID=Europe/London:20240823T080000
DTEND;TZID=Europe/London:20240823T170000
DTSTAMP:20260425T045837
CREATED:20240622T144103Z
LAST-MODIFIED:20240622T144103Z
UID:1725-1724400000-1724432400@www.giffordgolfclub.com
SUMMARY:9 Hole Stableford Medal
DESCRIPTION:
URL:https://www.giffordgolfclub.com/event/9-hole-stableford-medal-4/
CATEGORIES:Gents,Ladies
END:VEVENT
BEGIN:VEVENT
DTSTART;TZID=Europe/London:20240817T080000
DTEND;TZID=Europe/London:20240817T150000
DTSTAMP:20260425T045837
CREATED:20240622T144003Z
LAST-MODIFIED:20240622T144003Z
UID:1721-1723881600-1723906800@www.giffordgolfclub.com
SUMMARY:Gents Open
DESCRIPTION:
URL:https://www.giffordgolfclub.com/event/gents-open/
CATEGORIES:Gents,Open Competitions
END:VEVENT
BEGIN:VEVENT
DTSTART;TZID=Europe/London:20240814T130000
DTEND;TZID=Europe/London:20240814T173000
DTSTAMP:20260425T045837
CREATED:20240622T143635Z
LAST-MODIFIED:20240622T143635Z
UID:1713-1723640400-1723656600@www.giffordgolfclub.com
SUMMARY:18 Hole Stableford Medal
DESCRIPTION:
URL:https://www.giffordgolfclub.com/event/18-hole-stableford-medal-2/
CATEGORIES:Gents,Ladies
END:VEVENT
BEGIN:VEVENT
DTSTART;TZID=Europe/London:20240810T080000
DTEND;TZID=Europe/London:20240810T140000
DTSTAMP:20260425T045837
CREATED:20240622T143403Z
LAST-MODIFIED:20240622T143403Z
UID:1705-1723276800-1723298400@www.giffordgolfclub.com
SUMMARY:Members' Invitation Greensomes
DESCRIPTION:
URL:https://www.giffordgolfclub.com/event/members-invitation-greensomes/
CATEGORIES:Gents,Ladies
END:VEVENT
BEGIN:VEVENT
DTSTART;TZID=Europe/London:20240804T080000
DTEND;TZID=Europe/London:20240804T130000
DTSTAMP:20260425T045837
CREATED:20240622T142048Z
LAST-MODIFIED:20240622T142048Z
UID:1690-1722758400-1722776400@www.giffordgolfclub.com
SUMMARY:18 Hole Strokeplay Medal including Tweedale Medal
DESCRIPTION:
URL:https://www.giffordgolfclub.com/event/18-hole-strokeplay-medal-including-tweedale-medal/
CATEGORIES:Gents,Ladies
END:VEVENT
BEGIN:VEVENT
DTSTART;TZID=Europe/London:20240727T080000
DTEND;TZID=Europe/London:20240727T140000
DTSTAMP:20260425T045837
CREATED:20240622T141731Z
LAST-MODIFIED:20240622T141731Z
UID:1681-1722067200-1722088800@www.giffordgolfclub.com
SUMMARY:Open Texas Scramble - All Categories
DESCRIPTION:
URL:https://www.giffordgolfclub.com/event/open-texas-scramble-all-categories/
CATEGORIES:Gents,Juniors,Ladies
END:VEVENT
BEGIN:VEVENT
DTSTART;TZID=Europe/London:20240726T080000
DTEND;TZID=Europe/London:20240726T170000
DTSTAMP:20260425T045837
CREATED:20240622T141645Z
LAST-MODIFIED:20240622T141645Z
UID:1679-1721980800-1722013200@www.giffordgolfclub.com
SUMMARY:9 Hole Stableford Medal
DESCRIPTION:
URL:https://www.giffordgolfclub.com/event/9-hole-stableford-medal-3/
CATEGORIES:Gents,Ladies
END:VEVENT
BEGIN:VEVENT
DTSTART;TZID=Europe/London:20240719T143000
DTEND;TZID=Europe/London:20240719T143000
DTSTAMP:20260425T045837
CREATED:20240622T141105Z
LAST-MODIFIED:20240622T141105Z
UID:1664-1721399400-1721399400@www.giffordgolfclub.com
SUMMARY:Captains v Past Captains
DESCRIPTION:
URL:https://www.giffordgolfclub.com/event/captains-v-past-captains/
CATEGORIES:Gents,Ladies
END:VEVENT
BEGIN:VEVENT
DTSTART;TZID=Europe/London:20240717T080000
DTEND;TZID=Europe/London:20240717T170000
DTSTAMP:20260425T045837
CREATED:20240622T141240Z
LAST-MODIFIED:20240622T141240Z
UID:1668-1721203200-1721235600@www.giffordgolfclub.com
SUMMARY:Gents Friendly v Dirleton Castle (A)
DESCRIPTION:
URL:https://www.giffordgolfclub.com/event/gents-friendly-v-dirleton-castle-a/
CATEGORIES:Gents
END:VEVENT
BEGIN:VEVENT
DTSTART;TZID=Europe/London:20240706T080000
DTEND;TZID=Europe/London:20240706T130000
DTSTAMP:20260425T045837
CREATED:20240622T140439Z
LAST-MODIFIED:20240622T140439Z
UID:1649-1720252800-1720270800@www.giffordgolfclub.com
SUMMARY:18 Hole Stableford Medal (including Clachan Cup)
DESCRIPTION:
URL:https://www.giffordgolfclub.com/event/18-hole-stableford-medal-including-clachan-cup/
CATEGORIES:Gents,Ladies
END:VEVENT
BEGIN:VEVENT
DTSTART;TZID=Europe/London:20240628T080000
DTEND;TZID=Europe/London:20240628T170000
DTSTAMP:20260425T045837
CREATED:20240405T150416Z
LAST-MODIFIED:20240405T150416Z
UID:1547-1719561600-1719594000@www.giffordgolfclub.com
SUMMARY:9 Hole Stableford Medal
DESCRIPTION:
URL:https://www.giffordgolfclub.com/event/9-hole-stableford-medal-2/
CATEGORIES:Gents,Ladies
END:VEVENT
BEGIN:VEVENT
DTSTART;TZID=Europe/London:20240623T090000
DTEND;TZID=Europe/London:20240623T160000
DTSTAMP:20260425T045837
CREATED:20240405T150338Z
LAST-MODIFIED:20240405T150338Z
UID:1545-1719133200-1719158400@www.giffordgolfclub.com
SUMMARY:Championship Finals (Gents A & B\, Ladies\, Juniors)
DESCRIPTION:
URL:https://www.giffordgolfclub.com/event/championship-finals-gents-a-b-ladies-juniors/
CATEGORIES:Gents,Juniors,Ladies
END:VEVENT
BEGIN:VEVENT
DTSTART;TZID=Europe/London:20240622T140000
DTEND;TZID=Europe/London:20240622T160000
DTSTAMP:20260425T045837
CREATED:20240405T150259Z
LAST-MODIFIED:20240405T150259Z
UID:1543-1719064800-1719072000@www.giffordgolfclub.com
SUMMARY:Championship Semi-Finals (Gents A & B\, Ladies\, Juniors)
DESCRIPTION:
URL:https://www.giffordgolfclub.com/event/championship-semi-finals-gents-a-b-ladies-juniors/
CATEGORIES:Gents,Juniors,Ladies
END:VEVENT
BEGIN:VEVENT
DTSTART;TZID=Europe/London:20240621T080000
DTEND;TZID=Europe/London:20240621T170000
DTSTAMP:20260425T045837
CREATED:20240405T150157Z
LAST-MODIFIED:20240405T150157Z
UID:1541-1718956800-1718989200@www.giffordgolfclub.com
SUMMARY:Gents Friendly v Lauder (H)
DESCRIPTION:
URL:https://www.giffordgolfclub.com/event/gents-friendly-v-lauder-h/
CATEGORIES:Gents
END:VEVENT
BEGIN:VEVENT
DTSTART;TZID=Europe/London:20240619T130000
DTEND;TZID=Europe/London:20240619T173000
DTSTAMP:20260425T045837
CREATED:20240405T150120Z
LAST-MODIFIED:20240405T150120Z
UID:1539-1718802000-1718818200@www.giffordgolfclub.com
SUMMARY:18 Hole Stableford Medal
DESCRIPTION:
URL:https://www.giffordgolfclub.com/event/18-hole-stableford-medal/
CATEGORIES:Gents,Ladies
END:VEVENT
BEGIN:VEVENT
DTSTART;TZID=Europe/London:20240607T080000
DTEND;TZID=Europe/London:20240607T170000
DTSTAMP:20260425T045837
CREATED:20240405T145303Z
LAST-MODIFIED:20240405T145303Z
UID:1527-1717747200-1717779600@www.giffordgolfclub.com
SUMMARY:Gents Friendly v Lauder (A)
DESCRIPTION:
URL:https://www.giffordgolfclub.com/event/gents-friendly-v-lauder-a/
CATEGORIES:Gents
END:VEVENT
END:VCALENDAR