BEGIN:VCALENDAR
VERSION:2.0
PRODID:-//Gifford Golf Club - ECPv6.8.3//NONSGML v1.0//EN
CALSCALE:GREGORIAN
METHOD:PUBLISH
X-ORIGINAL-URL:https://www.giffordgolfclub.com
X-WR-CALDESC:Events for Gifford Golf Club
REFRESH-INTERVAL;VALUE=DURATION:PT1H
X-Robots-Tag:noindex
X-PUBLISHED-TTL:PT1H
BEGIN:VTIMEZONE
TZID:Europe/London
BEGIN:DAYLIGHT
TZOFFSETFROM:+0000
TZOFFSETTO:+0100
TZNAME:BST
DTSTART:20250330T010000
END:DAYLIGHT
BEGIN:STANDARD
TZOFFSETFROM:+0100
TZOFFSETTO:+0000
TZNAME:GMT
DTSTART:20251026T010000
END:STANDARD
END:VTIMEZONE
BEGIN:VEVENT
DTSTART;TZID=Europe/London:20250701T130000
DTEND;TZID=Europe/London:20250701T143000
DTSTAMP:20260422T130655
CREATED:20241220T090333Z
LAST-MODIFIED:20241220T090333Z
UID:2083-1751374800-1751380200@www.giffordgolfclub.com
SUMMARY:Ladies ~Stableford 18 + 9 Holes + Turn Up
DESCRIPTION:
URL:https://www.giffordgolfclub.com/event/ladies-stableford-18-9-holes-turn-up-3/
LOCATION:Gifford Golf Club\, EH41 4JE
CATEGORIES:Ladies
END:VEVENT
BEGIN:VEVENT
DTSTART;TZID=Europe/London:20250706T080000
DTEND;TZID=Europe/London:20250706T130000
DTSTAMP:20260422T130655
CREATED:20241220T090853Z
LAST-MODIFIED:20241220T090853Z
UID:2093-1751788800-1751806800@www.giffordgolfclub.com
SUMMARY:18 Hole Strokeplay Medal
DESCRIPTION:
URL:https://www.giffordgolfclub.com/event/18-hole-strokeplay-medal-5/
LOCATION:Gifford Golf Club\, EH41 4JE
CATEGORIES:Gents,Juniors,Ladies
END:VEVENT
BEGIN:VEVENT
DTSTART;TZID=Europe/London:20250707T170000
DTEND;TZID=Europe/London:20250707T170000
DTSTAMP:20260422T130655
CREATED:20241220T090940Z
LAST-MODIFIED:20241220T090940Z
UID:2095-1751907600-1751907600@www.giffordgolfclub.com
SUMMARY:Ladies Friendly v Royal Musselburgh (H)
DESCRIPTION:
URL:https://www.giffordgolfclub.com/event/ladies-friendly-v-royal-musselburgh-h/
LOCATION:Gifford Golf Club\, EH41 4JE
CATEGORIES:Ladies
END:VEVENT
BEGIN:VEVENT
DTSTART;TZID=Europe/London:20250716T130000
DTEND;TZID=Europe/London:20250716T173000
DTSTAMP:20260422T130655
CREATED:20241220T094546Z
LAST-MODIFIED:20241220T094546Z
UID:2101-1752670800-1752687000@www.giffordgolfclub.com
SUMMARY:18 Hole Stableford Meda
DESCRIPTION:
URL:https://www.giffordgolfclub.com/event/18-hole-stableford-meda/
LOCATION:Gifford Golf Club\, EH41 4JE
CATEGORIES:Gents,Juniors,Ladies
END:VEVENT
BEGIN:VEVENT
DTSTART;TZID=Europe/London:20250724T110000
DTEND;TZID=Europe/London:20250724T110000
DTSTAMP:20260422T130655
CREATED:20241220T095157Z
LAST-MODIFIED:20241220T095157Z
UID:2115-1753354800-1753354800@www.giffordgolfclub.com
SUMMARY:LAdies Friendly v Winterfield (A)
DESCRIPTION:
URL:https://www.giffordgolfclub.com/event/ladies-friendly-v-winterfield-a/
LOCATION:Winterfield Golf Club
CATEGORIES:Ladies
END:VEVENT
BEGIN:VEVENT
DTSTART;TZID=Europe/London:20250725T000000
DTEND;TZID=Europe/London:20250725T235959
DTSTAMP:20260422T130655
CREATED:20241220T095401Z
LAST-MODIFIED:20241220T095401Z
UID:2119-1753401600-1753487999@www.giffordgolfclub.com
SUMMARY:9 Hole Stableford Medal (Red Tees)
DESCRIPTION:
URL:https://www.giffordgolfclub.com/event/9-hole-stableford-medal-red-tees-3/
LOCATION:Gifford Golf Club\, EH41 4JE
CATEGORIES:Gents,Juniors,Ladies
END:VEVENT
BEGIN:VEVENT
DTSTART;TZID=Europe/London:20250726T080000
DTEND;TZID=Europe/London:20250726T140000
DTSTAMP:20260422T130655
CREATED:20241220T095531Z
LAST-MODIFIED:20241220T095531Z
UID:2121-1753516800-1753538400@www.giffordgolfclub.com
SUMMARY:Texas Scramble Open
DESCRIPTION:
URL:https://www.giffordgolfclub.com/event/texas-scramble-open/
LOCATION:Gifford Golf Club\, EH41 4JE
CATEGORIES:Gents,Juniors,Ladies,Open Competitions
END:VEVENT
END:VCALENDAR