BEGIN:VCALENDAR
VERSION:2.0
PRODID:-//Gifford Golf Club - ECPv6.8.3//NONSGML v1.0//EN
CALSCALE:GREGORIAN
METHOD:PUBLISH
X-WR-CALNAME:Gifford Golf Club
X-ORIGINAL-URL:https://www.giffordgolfclub.com
X-WR-CALDESC:Events for Gifford Golf Club
REFRESH-INTERVAL;VALUE=DURATION:PT1H
X-Robots-Tag:noindex
X-PUBLISHED-TTL:PT1H
BEGIN:VTIMEZONE
TZID:Europe/London
BEGIN:DAYLIGHT
TZOFFSETFROM:+0000
TZOFFSETTO:+0100
TZNAME:BST
DTSTART:20250330T010000
END:DAYLIGHT
BEGIN:STANDARD
TZOFFSETFROM:+0100
TZOFFSETTO:+0000
TZNAME:GMT
DTSTART:20251026T010000
END:STANDARD
END:VTIMEZONE
BEGIN:VEVENT
DTSTART;TZID=Europe/London:20250802T140000
DTEND;TZID=Europe/London:20250802T160000
DTSTAMP:20260422T144651
CREATED:20241221T112414Z
LAST-MODIFIED:20241221T112414Z
UID:2127-1754143200-1754150400@www.giffordgolfclub.com
SUMMARY:Ladies Day - Norwegian Stableford
DESCRIPTION:
URL:https://www.giffordgolfclub.com/event/ladies-day-norwegian-stableford/
LOCATION:Gifford Golf Club\, EH41 4JE
CATEGORIES:Ladies
END:VEVENT
BEGIN:VEVENT
DTSTART;TZID=Europe/London:20250803T080000
DTEND;TZID=Europe/London:20250803T130000
DTSTAMP:20260422T144651
CREATED:20241221T112501Z
LAST-MODIFIED:20241221T112501Z
UID:2129-1754208000-1754226000@www.giffordgolfclub.com
SUMMARY:18 Hole Strokeplay Medal
DESCRIPTION:
URL:https://www.giffordgolfclub.com/event/18-hole-strokeplay-medal-6/
LOCATION:Gifford Golf Club\, EH41 4JE
CATEGORIES:Gents,Juniors,Ladies
END:VEVENT
BEGIN:VEVENT
DTSTART;TZID=Europe/London:20250805T130000
DTEND;TZID=Europe/London:20250805T140000
DTSTAMP:20260422T144651
CREATED:20241221T112826Z
LAST-MODIFIED:20241221T112826Z
UID:2137-1754398800-1754402400@www.giffordgolfclub.com
SUMMARY:Ladies Stableford - 18 + 9 Holes + Turn Up
DESCRIPTION:
URL:https://www.giffordgolfclub.com/event/ladies-stableford-18-9-holes-turn-up-4/
LOCATION:Gifford Golf Club\, EH41 4JE
CATEGORIES:Ladies
END:VEVENT
BEGIN:VEVENT
DTSTART;TZID=Europe/London:20250809T080000
DTEND;TZID=Europe/London:20250809T140000
DTSTAMP:20260422T144651
CREATED:20241221T113051Z
LAST-MODIFIED:20241221T113051Z
UID:2143-1754726400-1754748000@www.giffordgolfclub.com
SUMMARY:Members Invitation 4BBB
DESCRIPTION:
URL:https://www.giffordgolfclub.com/event/members-invitation-4bbb/
LOCATION:Gifford Golf Club\, EH41 4JE
CATEGORIES:Gents,Juniors,Ladies
END:VEVENT
BEGIN:VEVENT
DTSTART;TZID=Europe/London:20250813T130000
DTEND;TZID=Europe/London:20250813T173000
DTSTAMP:20260422T144651
CREATED:20241221T113709Z
LAST-MODIFIED:20241221T113709Z
UID:2154-1755090000-1755106200@www.giffordgolfclub.com
SUMMARY:18 Hole Stableford Medal
DESCRIPTION:
URL:https://www.giffordgolfclub.com/event/18-hole-stableford-medal-6/
LOCATION:Gifford Golf Club\, EH41 4JE
CATEGORIES:Gents,Juniors,Ladies
END:VEVENT
BEGIN:VEVENT
DTSTART;TZID=Europe/London:20250822T080000
DTEND;TZID=Europe/London:20250822T170000
DTSTAMP:20260422T144651
CREATED:20241221T113947Z
LAST-MODIFIED:20241221T113947Z
UID:2160-1755849600-1755882000@www.giffordgolfclub.com
SUMMARY:9 Hole Stableford Medal (Red Tees)
DESCRIPTION:
URL:https://www.giffordgolfclub.com/event/9-hole-stableford-medal-red-tees-4/
LOCATION:Gifford Golf Club\, EH41 4JE
CATEGORIES:Gents,Juniors,Ladies
END:VEVENT
BEGIN:VEVENT
DTSTART;TZID=Europe/London:20250824T080000
DTEND;TZID=Europe/London:20250824T120000
DTSTAMP:20260422T144651
CREATED:20241221T114115Z
LAST-MODIFIED:20241221T114115Z
UID:2164-1756022400-1756036800@www.giffordgolfclub.com
SUMMARY:Jimmy Renton Texas Scramble
DESCRIPTION:
URL:https://www.giffordgolfclub.com/event/jimmy-renton-texas-scramble/
LOCATION:Gifford Golf Club\, EH41 4JE
CATEGORIES:Gents,Juniors,Ladies
END:VEVENT
BEGIN:VEVENT
DTSTART;TZID=Europe/London:20250827T080000
DTEND;TZID=Europe/London:20250827T140000
DTSTAMP:20260422T144651
CREATED:20241221T114157Z
LAST-MODIFIED:20241221T114157Z
UID:2166-1756281600-1756303200@www.giffordgolfclub.com
SUMMARY:Ladies Senior Open - Greensome
DESCRIPTION:
URL:https://www.giffordgolfclub.com/event/ladies-senior-open-greensome/
LOCATION:Gifford Golf Club\, EH41 4JE
CATEGORIES:Ladies,Open Competitions
END:VEVENT
BEGIN:VEVENT
DTSTART;TZID=Europe/London:20250829T140000
DTEND;TZID=Europe/London:20250829T153000
DTSTAMP:20260422T144651
CREATED:20241221T114255Z
LAST-MODIFIED:20241221T114255Z
UID:2168-1756476000-1756481400@www.giffordgolfclub.com
SUMMARY:Captains v Past Captains - 9 Hole Stableford
DESCRIPTION:
URL:https://www.giffordgolfclub.com/event/captains-v-past-captains-9-hole-stableford/
LOCATION:Gifford Golf Club\, EH41 4JE
CATEGORIES:Gents,Juniors,Ladies
END:VEVENT
END:VCALENDAR