BEGIN:VCALENDAR
VERSION:2.0
PRODID:-//Gifford Golf Club - ECPv6.8.3//NONSGML v1.0//EN
CALSCALE:GREGORIAN
METHOD:PUBLISH
X-ORIGINAL-URL:https://www.giffordgolfclub.com
X-WR-CALDESC:Events for Gifford Golf Club
REFRESH-INTERVAL;VALUE=DURATION:PT1H
X-Robots-Tag:noindex
X-PUBLISHED-TTL:PT1H
BEGIN:VTIMEZONE
TZID:Europe/London
BEGIN:DAYLIGHT
TZOFFSETFROM:+0000
TZOFFSETTO:+0100
TZNAME:BST
DTSTART:20240331T010000
END:DAYLIGHT
BEGIN:STANDARD
TZOFFSETFROM:+0100
TZOFFSETTO:+0000
TZNAME:GMT
DTSTART:20241027T010000
END:STANDARD
END:VTIMEZONE
BEGIN:VEVENT
DTSTART;TZID=Europe/London:20241207T123000
DTEND;TZID=Europe/London:20241207T140000
DTSTAMP:20260422T001234
CREATED:20240622T153951Z
LAST-MODIFIED:20241216T102940Z
UID:1784-1733574600-1733580000@www.giffordgolfclub.com
SUMMARY:Ladies Winter League Tinsel Tournament
DESCRIPTION:
URL:https://www.giffordgolfclub.com/event/ladies-winter-league-tinsel-tournament/
LOCATION:Gifford Golf Club\, EH41 4JE
CATEGORIES:Ladies
END:VEVENT
END:VCALENDAR