BEGIN:VCALENDAR
VERSION:2.0
PRODID:-//Gifford Golf Club - ECPv6.8.3//NONSGML v1.0//EN
CALSCALE:GREGORIAN
METHOD:PUBLISH
X-ORIGINAL-URL:https://www.giffordgolfclub.com
X-WR-CALDESC:Events for Gifford Golf Club
REFRESH-INTERVAL;VALUE=DURATION:PT1H
X-Robots-Tag:noindex
X-PUBLISHED-TTL:PT1H
BEGIN:VTIMEZONE
TZID:Europe/London
BEGIN:DAYLIGHT
TZOFFSETFROM:+0000
TZOFFSETTO:+0100
TZNAME:BST
DTSTART:20250330T010000
END:DAYLIGHT
BEGIN:STANDARD
TZOFFSETFROM:+0100
TZOFFSETTO:+0000
TZNAME:GMT
DTSTART:20251026T010000
END:STANDARD
END:VTIMEZONE
BEGIN:VEVENT
DTSTART;TZID=Europe/London:20250604T090000
DTEND;TZID=Europe/London:20250604T110000
DTSTAMP:20260422T032854
CREATED:20241218T092500Z
LAST-MODIFIED:20241218T092500Z
UID:2044-1749027600-1749034800@www.giffordgolfclub.com
SUMMARY:Seniors Medal II
DESCRIPTION:
URL:https://www.giffordgolfclub.com/event/seniors-medal-ii/
LOCATION:Gifford Golf Club\, EH41 4JE
CATEGORIES:Seniors
END:VEVENT
BEGIN:VEVENT
DTSTART;TZID=Europe/London:20250611T080000
DTEND;TZID=Europe/London:20250611T150000
DTSTAMP:20260422T032854
CREATED:20241218T092837Z
LAST-MODIFIED:20241221T112256Z
UID:2052-1749628800-1749654000@www.giffordgolfclub.com
SUMMARY:Seniors Open
DESCRIPTION:
URL:https://www.giffordgolfclub.com/event/seniors-open/
LOCATION:Gifford Golf Club\, EH41 4JE
CATEGORIES:Open Competitions,Seniors
END:VEVENT
BEGIN:VEVENT
DTSTART;TZID=Europe/London:20250619T100000
DTEND;TZID=Europe/London:20250619T140000
DTSTAMP:20260422T032854
CREATED:20241218T093120Z
LAST-MODIFIED:20241218T093120Z
UID:2058-1750327200-1750341600@www.giffordgolfclub.com
SUMMARY:Seniors Friendly v Duns (A)
DESCRIPTION:
URL:https://www.giffordgolfclub.com/event/seniors-friendly-v-duns-a/
LOCATION:Duns Golf Club\, TD11 3NR
CATEGORIES:Seniors
END:VEVENT
BEGIN:VEVENT
DTSTART;TZID=Europe/London:20250626T100000
DTEND;TZID=Europe/London:20250626T110000
DTSTAMP:20260422T032854
CREATED:20241218T093425Z
LAST-MODIFIED:20241218T093425Z
UID:2067-1750932000-1750935600@www.giffordgolfclub.com
SUMMARY:Seniors Friendly v Eyemouth (H)
DESCRIPTION:
URL:https://www.giffordgolfclub.com/event/seniors-friendly-v-eyemouth-h/
LOCATION:Gifford Golf Club\, EH41 4JE
CATEGORIES:Seniors
END:VEVENT
END:VCALENDAR