BEGIN:VCALENDAR
VERSION:2.0
PRODID:-//Gifford Golf Club - ECPv6.8.3//NONSGML v1.0//EN
CALSCALE:GREGORIAN
METHOD:PUBLISH
X-ORIGINAL-URL:https://www.giffordgolfclub.com
X-WR-CALDESC:Events for Gifford Golf Club
REFRESH-INTERVAL;VALUE=DURATION:PT1H
X-Robots-Tag:noindex
X-PUBLISHED-TTL:PT1H
BEGIN:VTIMEZONE
TZID:Europe/London
BEGIN:DAYLIGHT
TZOFFSETFROM:+0000
TZOFFSETTO:+0100
TZNAME:BST
DTSTART:20250330T010000
END:DAYLIGHT
BEGIN:STANDARD
TZOFFSETFROM:+0100
TZOFFSETTO:+0000
TZNAME:GMT
DTSTART:20251026T010000
END:STANDARD
END:VTIMEZONE
BEGIN:VEVENT
DTSTART;TZID=Europe/London:20250702T090000
DTEND;TZID=Europe/London:20250702T110000
DTSTAMP:20260422T014417
CREATED:20241220T090418Z
LAST-MODIFIED:20241220T090418Z
UID:2085-1751446800-1751454000@www.giffordgolfclub.com
SUMMARY:Seniors Medal III
DESCRIPTION:
URL:https://www.giffordgolfclub.com/event/seniors-medal-iii/
LOCATION:Gifford Golf Club\, EH41 4JE
CATEGORIES:Seniors
END:VEVENT
BEGIN:VEVENT
DTSTART;TZID=Europe/London:20250714T100000
DTEND;TZID=Europe/London:20250714T110000
DTSTAMP:20260422T014417
CREATED:20241220T094421Z
LAST-MODIFIED:20241220T094421Z
UID:2097-1752487200-1752490800@www.giffordgolfclub.com
SUMMARY:Seniors Friendly v Innerleithen (H)
DESCRIPTION:
URL:https://www.giffordgolfclub.com/event/seniors-friendly-v-innerleithen-h/
LOCATION:Gifford Golf Club\, EH41 4JE
CATEGORIES:Seniors
END:VEVENT
BEGIN:VEVENT
DTSTART;TZID=Europe/London:20250721T100000
DTEND;TZID=Europe/London:20250721T110000
DTSTAMP:20260422T014417
CREATED:20241220T094634Z
LAST-MODIFIED:20241220T094634Z
UID:2103-1753092000-1753095600@www.giffordgolfclub.com
SUMMARY:Seniors Friendly v Lauder (H)
DESCRIPTION:
URL:https://www.giffordgolfclub.com/event/seniors-friendly-v-lauder-h-2/
LOCATION:Gifford Golf Club\, EH41 4JE
CATEGORIES:Seniors
END:VEVENT
BEGIN:VEVENT
DTSTART;TZID=Europe/London:20250728T000000
DTEND;TZID=Europe/London:20250728T235959
DTSTAMP:20260422T014417
CREATED:20241220T094743Z
LAST-MODIFIED:20241220T094743Z
UID:2105-1753660800-1753747199@www.giffordgolfclub.com
SUMMARY:Seniors Mixed v Kelso (A) - TBC
DESCRIPTION:
URL:https://www.giffordgolfclub.com/event/seniors-mixed-v-kelso-a-tbc/
LOCATION:Kelso Golf Club\, TD5 7SL
CATEGORIES:Seniors
END:VEVENT
END:VCALENDAR