BEGIN:VCALENDAR
VERSION:2.0
PRODID:-//Gifford Golf Club - ECPv6.8.3//NONSGML v1.0//EN
CALSCALE:GREGORIAN
METHOD:PUBLISH
X-WR-CALNAME:Gifford Golf Club
X-ORIGINAL-URL:https://www.giffordgolfclub.com
X-WR-CALDESC:Events for Gifford Golf Club
REFRESH-INTERVAL;VALUE=DURATION:PT1H
X-Robots-Tag:noindex
X-PUBLISHED-TTL:PT1H
BEGIN:VTIMEZONE
TZID:Europe/London
BEGIN:DAYLIGHT
TZOFFSETFROM:+0000
TZOFFSETTO:+0100
TZNAME:BST
DTSTART:20250330T010000
END:DAYLIGHT
BEGIN:STANDARD
TZOFFSETFROM:+0100
TZOFFSETTO:+0000
TZNAME:GMT
DTSTART:20251026T010000
END:STANDARD
BEGIN:DAYLIGHT
TZOFFSETFROM:+0000
TZOFFSETTO:+0100
TZNAME:BST
DTSTART:20260329T010000
END:DAYLIGHT
BEGIN:STANDARD
TZOFFSETFROM:+0100
TZOFFSETTO:+0000
TZNAME:GMT
DTSTART:20261025T010000
END:STANDARD
END:VTIMEZONE
BEGIN:VEVENT
DTSTART;TZID=Europe/London:20260222T120000
DTEND;TZID=Europe/London:20260222T140000
DTSTAMP:20260421T123950
CREATED:20241221T122319Z
LAST-MODIFIED:20241221T122319Z
UID:2253-1771761600-1771768800@www.giffordgolfclub.com
SUMMARY:Ladies Winter Warmer VIII
DESCRIPTION:
URL:https://www.giffordgolfclub.com/event/ladies-winter-warmer-viii/
LOCATION:Gifford Golf Club\, EH41 4JE
CATEGORIES:Ladies
END:VEVENT
BEGIN:VEVENT
DTSTART;TZID=Europe/London:20260208T120000
DTEND;TZID=Europe/London:20260208T120000
DTSTAMP:20260421T123950
CREATED:20241221T122245Z
LAST-MODIFIED:20241221T122245Z
UID:2251-1770552000-1770552000@www.giffordgolfclub.com
SUMMARY:Ladies Winter Warmer VII
DESCRIPTION:
URL:https://www.giffordgolfclub.com/event/ladies-winter-warmer-vii/
LOCATION:Gifford Golf Club\, EH41 4JE
CATEGORIES:Ladies
END:VEVENT
BEGIN:VEVENT
DTSTART;TZID=Europe/London:20260125T120000
DTEND;TZID=Europe/London:20260125T140000
DTSTAMP:20260421T123950
CREATED:20241221T122207Z
LAST-MODIFIED:20241221T122207Z
UID:2249-1769342400-1769349600@www.giffordgolfclub.com
SUMMARY:Ladies Winter Warmer VI
DESCRIPTION:
URL:https://www.giffordgolfclub.com/event/ladies-winter-warmer-vi/
LOCATION:Gifford Golf Club\, EH41 4JE
CATEGORIES:Ladies
END:VEVENT
BEGIN:VEVENT
DTSTART;TZID=Europe/London:20260111T120000
DTEND;TZID=Europe/London:20260111T140000
DTSTAMP:20260421T123950
CREATED:20241221T122129Z
LAST-MODIFIED:20241221T122129Z
UID:2247-1768132800-1768140000@www.giffordgolfclub.com
SUMMARY:Ladies Winter Warmer V
DESCRIPTION:
URL:https://www.giffordgolfclub.com/event/ladies-winter-warmer-v/
LOCATION:Gifford Golf Club\, EH41 4JE
CATEGORIES:Ladies
END:VEVENT
BEGIN:VEVENT
DTSTART;TZID=Europe/London:20260104T120000
DTEND;TZID=Europe/London:20260104T140000
DTSTAMP:20260421T123950
CREATED:20241221T122055Z
LAST-MODIFIED:20241221T122055Z
UID:2245-1767528000-1767535200@www.giffordgolfclub.com
SUMMARY:Ladies Winter Warmer IV
DESCRIPTION:
URL:https://www.giffordgolfclub.com/event/ladies-winter-warmer-iv/
LOCATION:Gifford Golf Club\, EH41 4JE
CATEGORIES:Ladies
END:VEVENT
BEGIN:VEVENT
DTSTART;TZID=Europe/London:20251206T120000
DTEND;TZID=Europe/London:20251206T120000
DTSTAMP:20260421T123950
CREATED:20241221T122021Z
LAST-MODIFIED:20241221T122355Z
UID:2243-1765022400-1765022400@www.giffordgolfclub.com
SUMMARY:Ladies Winter Warmer III - Tinsel Tournament (Shotgun)
DESCRIPTION:
URL:https://www.giffordgolfclub.com/event/ladies-winter-warmer-i-tinsel-tournament-shotgun/
LOCATION:Gifford Golf Club\, EH41 4JE
CATEGORIES:Ladies
END:VEVENT
BEGIN:VEVENT
DTSTART;TZID=Europe/London:20251123T120000
DTEND;TZID=Europe/London:20251123T140000
DTSTAMP:20260421T123950
CREATED:20241221T121927Z
LAST-MODIFIED:20241221T121927Z
UID:2241-1763899200-1763906400@www.giffordgolfclub.com
SUMMARY:Ladies Winter Warmer II
DESCRIPTION:
URL:https://www.giffordgolfclub.com/event/ladies-winter-warmer-ii/
LOCATION:Gifford Golf Club\, EH41 4JE
CATEGORIES:Ladies
END:VEVENT
BEGIN:VEVENT
DTSTART;TZID=Europe/London:20251109T120000
DTEND;TZID=Europe/London:20251109T140000
DTSTAMP:20260421T123950
CREATED:20241221T121829Z
LAST-MODIFIED:20241221T121829Z
UID:2239-1762689600-1762696800@www.giffordgolfclub.com
SUMMARY:Ladies Winter Warmer I
DESCRIPTION:
URL:https://www.giffordgolfclub.com/event/ladies-winter-warmer-i/
LOCATION:Gifford Golf Club\, EH41 4JE
CATEGORIES:Ladies
END:VEVENT
BEGIN:VEVENT
DTSTART;TZID=Europe/London:20251101T120000
DTEND;TZID=Europe/London:20251101T120000
DTSTAMP:20260421T123950
CREATED:20241221T120707Z
LAST-MODIFIED:20241221T120707Z
UID:2219-1761998400-1761998400@www.giffordgolfclub.com
SUMMARY:Ladies Lunch + Prizegiving
DESCRIPTION:
URL:https://www.giffordgolfclub.com/event/ladies-lunch-prizegiving/
LOCATION:Gifford Golf Club\, EH41 4JE
CATEGORIES:Ladies
END:VEVENT
BEGIN:VEVENT
DTSTART;TZID=Europe/London:20250910T090000
DTEND;TZID=Europe/London:20250910T110000
DTSTAMP:20260421T123950
CREATED:20241221T115205Z
LAST-MODIFIED:20241221T115205Z
UID:2187-1757494800-1757502000@www.giffordgolfclub.com
SUMMARY:Ladies Super Senior Open
DESCRIPTION:
URL:https://www.giffordgolfclub.com/event/ladies-super-senior-open-2/
LOCATION:Gifford Golf Club\, EH41 4JE
CATEGORIES:Ladies,Open Competitions
END:VEVENT
BEGIN:VEVENT
DTSTART;TZID=Europe/London:20250902T130000
DTEND;TZID=Europe/London:20250902T140000
DTSTAMP:20260421T123950
CREATED:20241221T114732Z
LAST-MODIFIED:20241221T114732Z
UID:2176-1756818000-1756821600@www.giffordgolfclub.com
SUMMARY:Ladies Stableford - 18 + 9 + Turn Up
DESCRIPTION:
URL:https://www.giffordgolfclub.com/event/ladies-stableford-18-9-turn-up/
LOCATION:Gifford Golf Club\, EH41 4JE
CATEGORIES:Ladies
END:VEVENT
BEGIN:VEVENT
DTSTART;TZID=Europe/London:20250827T080000
DTEND;TZID=Europe/London:20250827T140000
DTSTAMP:20260421T123950
CREATED:20241221T114157Z
LAST-MODIFIED:20241221T114157Z
UID:2166-1756281600-1756303200@www.giffordgolfclub.com
SUMMARY:Ladies Senior Open - Greensome
DESCRIPTION:
URL:https://www.giffordgolfclub.com/event/ladies-senior-open-greensome/
LOCATION:Gifford Golf Club\, EH41 4JE
CATEGORIES:Ladies,Open Competitions
END:VEVENT
BEGIN:VEVENT
DTSTART;TZID=Europe/London:20250805T130000
DTEND;TZID=Europe/London:20250805T140000
DTSTAMP:20260421T123950
CREATED:20241221T112826Z
LAST-MODIFIED:20241221T112826Z
UID:2137-1754398800-1754402400@www.giffordgolfclub.com
SUMMARY:Ladies Stableford - 18 + 9 Holes + Turn Up
DESCRIPTION:
URL:https://www.giffordgolfclub.com/event/ladies-stableford-18-9-holes-turn-up-4/
LOCATION:Gifford Golf Club\, EH41 4JE
CATEGORIES:Ladies
END:VEVENT
BEGIN:VEVENT
DTSTART;TZID=Europe/London:20250802T140000
DTEND;TZID=Europe/London:20250802T160000
DTSTAMP:20260421T123950
CREATED:20241221T112414Z
LAST-MODIFIED:20241221T112414Z
UID:2127-1754143200-1754150400@www.giffordgolfclub.com
SUMMARY:Ladies Day - Norwegian Stableford
DESCRIPTION:
URL:https://www.giffordgolfclub.com/event/ladies-day-norwegian-stableford/
LOCATION:Gifford Golf Club\, EH41 4JE
CATEGORIES:Ladies
END:VEVENT
BEGIN:VEVENT
DTSTART;TZID=Europe/London:20250724T110000
DTEND;TZID=Europe/London:20250724T110000
DTSTAMP:20260421T123950
CREATED:20241220T095157Z
LAST-MODIFIED:20241220T095157Z
UID:2115-1753354800-1753354800@www.giffordgolfclub.com
SUMMARY:LAdies Friendly v Winterfield (A)
DESCRIPTION:
URL:https://www.giffordgolfclub.com/event/ladies-friendly-v-winterfield-a/
LOCATION:Winterfield Golf Club
CATEGORIES:Ladies
END:VEVENT
BEGIN:VEVENT
DTSTART;TZID=Europe/London:20250707T170000
DTEND;TZID=Europe/London:20250707T170000
DTSTAMP:20260421T123950
CREATED:20241220T090940Z
LAST-MODIFIED:20241220T090940Z
UID:2095-1751907600-1751907600@www.giffordgolfclub.com
SUMMARY:Ladies Friendly v Royal Musselburgh (H)
DESCRIPTION:
URL:https://www.giffordgolfclub.com/event/ladies-friendly-v-royal-musselburgh-h/
LOCATION:Gifford Golf Club\, EH41 4JE
CATEGORIES:Ladies
END:VEVENT
BEGIN:VEVENT
DTSTART;TZID=Europe/London:20250701T130000
DTEND;TZID=Europe/London:20250701T143000
DTSTAMP:20260421T123950
CREATED:20241220T090333Z
LAST-MODIFIED:20241220T090333Z
UID:2083-1751374800-1751380200@www.giffordgolfclub.com
SUMMARY:Ladies ~Stableford 18 + 9 Holes + Turn Up
DESCRIPTION:
URL:https://www.giffordgolfclub.com/event/ladies-stableford-18-9-holes-turn-up-3/
LOCATION:Gifford Golf Club\, EH41 4JE
CATEGORIES:Ladies
END:VEVENT
BEGIN:VEVENT
DTSTART;TZID=Europe/London:20250629T090000
DTEND;TZID=Europe/London:20250629T160000
DTSTAMP:20260421T123950
CREATED:20241218T093652Z
LAST-MODIFIED:20241218T093652Z
UID:2073-1751187600-1751212800@www.giffordgolfclub.com
SUMMARY:Championship Finals (Gents A + B\, Ladies & Juniors)
DESCRIPTION:
URL:https://www.giffordgolfclub.com/event/championship-finals-gents-a-b-ladies-juniors-2/
LOCATION:Gifford Golf Club\, EH41 4JE
CATEGORIES:Gents,Juniors,Ladies
END:VEVENT
BEGIN:VEVENT
DTSTART;TZID=Europe/London:20250628T140000
DTEND;TZID=Europe/London:20250628T160000
DTSTAMP:20260421T123950
CREATED:20241218T093616Z
LAST-MODIFIED:20241218T093616Z
UID:2071-1751119200-1751126400@www.giffordgolfclub.com
SUMMARY:Championship Semi-Finals (Gents A + B\, Ladies & Juniors)
DESCRIPTION:
URL:https://www.giffordgolfclub.com/event/championship-semi-finals-gents-a-b-ladies-juniors-2/
LOCATION:Gifford Golf Club\, EH41 4JE
CATEGORIES:Gents,Juniors,Ladies
END:VEVENT
BEGIN:VEVENT
DTSTART;TZID=Europe/London:20250622T130000
DTEND;TZID=Europe/London:20250622T140000
DTSTAMP:20260421T123950
CREATED:20241218T093343Z
LAST-MODIFIED:20241218T093343Z
UID:2065-1750597200-1750600800@www.giffordgolfclub.com
SUMMARY:Ladies Friendly v Duns (H)
DESCRIPTION:
URL:https://www.giffordgolfclub.com/event/ladies-friendly-v-duns-h/
LOCATION:Gifford Golf Club\, EH41 4JE
CATEGORIES:Ladies
END:VEVENT
BEGIN:VEVENT
DTSTART;TZID=Europe/London:20250607T080000
DTEND;TZID=Europe/London:20250607T150000
DTSTAMP:20260421T123950
CREATED:20241218T092649Z
LAST-MODIFIED:20241221T112139Z
UID:2048-1749283200-1749308400@www.giffordgolfclub.com
SUMMARY:Ladies Tri-Am Open
DESCRIPTION:
URL:https://www.giffordgolfclub.com/event/ladies-tri-am-open-2/
LOCATION:Gifford Golf Club\, EH41 4JE
CATEGORIES:Ladies,Open Competitions
END:VEVENT
BEGIN:VEVENT
DTSTART;TZID=Europe/London:20250603T130000
DTEND;TZID=Europe/London:20250603T140000
DTSTAMP:20260421T123950
CREATED:20241218T092418Z
LAST-MODIFIED:20241218T092418Z
UID:2042-1748955600-1748959200@www.giffordgolfclub.com
SUMMARY:Ladies Stableford 18 + 9 Holes + Turn Up
DESCRIPTION:
URL:https://www.giffordgolfclub.com/event/ladies-stableford-18-9-holes-turn-up-2/
LOCATION:Gifford Golf Club\, EH41 4JE
CATEGORIES:Ladies
END:VEVENT
BEGIN:VEVENT
DTSTART;TZID=Europe/London:20250602T170000
DTEND;TZID=Europe/London:20250602T180000
DTSTAMP:20260421T123950
CREATED:20241218T092242Z
LAST-MODIFIED:20241218T092242Z
UID:2037-1748883600-1748887200@www.giffordgolfclub.com
SUMMARY:Ladies Friendly v Dunbar (A)
DESCRIPTION:
URL:https://www.giffordgolfclub.com/event/ladies-friendly-v-dunbar-a/
LOCATION:Dunbar Golf Club\, EH42 1LL
CATEGORIES:Ladies
END:VEVENT
BEGIN:VEVENT
DTSTART;TZID=Europe/London:20250530T170000
DTEND;TZID=Europe/London:20250530T180000
DTSTAMP:20260421T123950
CREATED:20241218T092014Z
LAST-MODIFIED:20241218T092014Z
UID:2031-1748624400-1748628000@www.giffordgolfclub.com
SUMMARY:Ladies Friendly v Dirleton Castle (H)
DESCRIPTION:
URL:https://www.giffordgolfclub.com/event/ladies-friendly-v-dirleton-castle-h/
LOCATION:Gifford Golf Club\, EH41 4JE
CATEGORIES:Ladies
END:VEVENT
BEGIN:VEVENT
DTSTART;TZID=Europe/London:20250512T130000
DTEND;TZID=Europe/London:20250512T180000
DTSTAMP:20260421T123950
CREATED:20241218T090816Z
LAST-MODIFIED:20241218T090816Z
UID:2007-1747054800-1747072800@www.giffordgolfclub.com
SUMMARY:Ladies Friendly v Haddington (A)
DESCRIPTION:
URL:https://www.giffordgolfclub.com/event/ladies-friendly-v-haddington-a/
LOCATION:Haddington Golf Club\, EH41 4PT
CATEGORIES:Ladies
END:VEVENT
BEGIN:VEVENT
DTSTART;TZID=Europe/London:20250511T140000
DTEND;TZID=Europe/London:20250511T150000
DTSTAMP:20260421T123950
CREATED:20241218T090718Z
LAST-MODIFIED:20241218T090718Z
UID:2005-1746972000-1746975600@www.giffordgolfclub.com
SUMMARY:Ladies Coronation Foursomes
DESCRIPTION:
URL:https://www.giffordgolfclub.com/event/ladies-coronation-foursomes-2/
LOCATION:Gifford Golf Club\, EH41 4JE
CATEGORIES:Ladies
END:VEVENT
BEGIN:VEVENT
DTSTART;TZID=Europe/London:20250506T130000
DTEND;TZID=Europe/London:20250506T140000
DTSTAMP:20260421T123950
CREATED:20241218T090331Z
LAST-MODIFIED:20241218T090331Z
UID:1997-1746536400-1746540000@www.giffordgolfclub.com
SUMMARY:Ladies Stableford 18 + 9 Holes + Turn Up
DESCRIPTION:
URL:https://www.giffordgolfclub.com/event/ladies-stableford-18-9-holes-turn-up/
LOCATION:Gifford Golf Club\, EH41 4JE
CATEGORIES:Ladies
END:VEVENT
BEGIN:VEVENT
DTSTART;TZID=Europe/London:20250426T000000
DTEND;TZID=Europe/London:20250427T235959
DTSTAMP:20260421T123950
CREATED:20241218T085822Z
LAST-MODIFIED:20241218T085822Z
UID:1986-1745625600-1745798399@www.giffordgolfclub.com
SUMMARY:Ladies Weekend Away
DESCRIPTION:
URL:https://www.giffordgolfclub.com/event/ladies-weekend-away-2/
LOCATION:TBC
CATEGORIES:Ladies
END:VEVENT
BEGIN:VEVENT
DTSTART;TZID=Europe/London:20250408T130000
DTEND;TZID=Europe/London:20250408T140000
DTSTAMP:20260421T123950
CREATED:20241217T175728Z
LAST-MODIFIED:20241217T175728Z
UID:1975-1744117200-1744120800@www.giffordgolfclub.com
SUMMARY:Ladies Stableford 9 + 18 Holes & Turn Up
DESCRIPTION:
URL:https://www.giffordgolfclub.com/event/ladies-stableford-9-18-holes-turn-up/
LOCATION:Gifford Golf Club\, EH41 4JE
CATEGORIES:Ladies
END:VEVENT
BEGIN:VEVENT
DTSTART;TZID=Europe/London:20250223T123000
DTEND;TZID=Europe/London:20250223T140000
DTSTAMP:20260421T123950
CREATED:20241112T183044Z
LAST-MODIFIED:20241216T102722Z
UID:1837-1740313800-1740319200@www.giffordgolfclub.com
SUMMARY:Ladies Winter League
DESCRIPTION:
URL:https://www.giffordgolfclub.com/event/ladies-winter-league-10/
LOCATION:Gifford Golf Club\, EH41 4JE
CATEGORIES:Ladies
END:VEVENT
END:VCALENDAR