BEGIN:VCALENDAR
VERSION:2.0
PRODID:-//Gifford Golf Club - ECPv6.8.3//NONSGML v1.0//EN
CALSCALE:GREGORIAN
METHOD:PUBLISH
X-WR-CALNAME:Gifford Golf Club
X-ORIGINAL-URL:https://www.giffordgolfclub.com
X-WR-CALDESC:Events for Gifford Golf Club
REFRESH-INTERVAL;VALUE=DURATION:PT1H
X-Robots-Tag:noindex
X-PUBLISHED-TTL:PT1H
BEGIN:VTIMEZONE
TZID:Europe/London
BEGIN:DAYLIGHT
TZOFFSETFROM:+0000
TZOFFSETTO:+0100
TZNAME:BST
DTSTART:20250330T010000
END:DAYLIGHT
BEGIN:STANDARD
TZOFFSETFROM:+0100
TZOFFSETTO:+0000
TZNAME:GMT
DTSTART:20251026T010000
END:STANDARD
END:VTIMEZONE
BEGIN:VEVENT
DTSTART;TZID=Europe/London:20250105T110000
DTEND;TZID=Europe/London:20250105T130000
DTSTAMP:20260421T190855
CREATED:20241112T182522Z
LAST-MODIFIED:20241216T102910Z
UID:1823-1736074800-1736082000@www.giffordgolfclub.com
SUMMARY:Ladies Winter League (Mulled Wine & Mince Pies)
DESCRIPTION:
URL:https://www.giffordgolfclub.com/event/ladies-winter-league-mulled-wine-mince-pies/
LOCATION:Gifford Golf Club\, EH41 4JE
CATEGORIES:Ladies
END:VEVENT
BEGIN:VEVENT
DTSTART;TZID=Europe/London:20250111T120000
DTEND;TZID=Europe/London:20250111T120000
DTSTAMP:20260421T190855
CREATED:20241112T182650Z
LAST-MODIFIED:20241208T085150Z
UID:1825-1736596800-1736596800@www.giffordgolfclub.com
SUMMARY:Annual Prizegiving & 9-Hole Scramble Shotgun
DESCRIPTION:
URL:https://www.giffordgolfclub.com/event/annual-prizegiving-9-hole-scramble-shotgun/
LOCATION:Gifford Golf Club\, EH41 4JE
CATEGORIES:Gents,Juniors,Ladies
END:VEVENT
BEGIN:VEVENT
DTSTART;TZID=Europe/London:20250112T123000
DTEND;TZID=Europe/London:20250112T140000
DTSTAMP:20260421T190855
CREATED:20241112T182738Z
LAST-MODIFIED:20241216T102850Z
UID:1827-1736685000-1736690400@www.giffordgolfclub.com
SUMMARY:Ladies Winter League
DESCRIPTION:
URL:https://www.giffordgolfclub.com/event/ladies-winter-league-7/
LOCATION:Gifford Golf Club\, EH41 4JE
CATEGORIES:Ladies
END:VEVENT
BEGIN:VEVENT
DTSTART;TZID=Europe/London:20250126T123000
DTEND;TZID=Europe/London:20250126T140000
DTSTAMP:20260421T190855
CREATED:20241112T182806Z
LAST-MODIFIED:20241216T102834Z
UID:1829-1737894600-1737900000@www.giffordgolfclub.com
SUMMARY:Ladies Winter League
DESCRIPTION:
URL:https://www.giffordgolfclub.com/event/ladies-winter-league-8/
LOCATION:Gifford Golf Club\, EH41 4JE
CATEGORIES:Ladies
END:VEVENT
END:VCALENDAR