BEGIN:VCALENDAR
VERSION:2.0
PRODID:-//Gifford Golf Club - ECPv6.8.3//NONSGML v1.0//EN
CALSCALE:GREGORIAN
METHOD:PUBLISH
X-WR-CALNAME:Gifford Golf Club
X-ORIGINAL-URL:https://www.giffordgolfclub.com
X-WR-CALDESC:Events for Gifford Golf Club
REFRESH-INTERVAL;VALUE=DURATION:PT1H
X-Robots-Tag:noindex
X-PUBLISHED-TTL:PT1H
BEGIN:VTIMEZONE
TZID:Europe/London
BEGIN:DAYLIGHT
TZOFFSETFROM:+0000
TZOFFSETTO:+0100
TZNAME:BST
DTSTART:20250330T010000
END:DAYLIGHT
BEGIN:STANDARD
TZOFFSETFROM:+0100
TZOFFSETTO:+0000
TZNAME:GMT
DTSTART:20251026T010000
END:STANDARD
END:VTIMEZONE
BEGIN:VEVENT
DTSTART;TZID=Europe/London:20250401T090000
DTEND;TZID=Europe/London:20250401T103000
DTSTAMP:20260421T141205
CREATED:20241216T131726Z
LAST-MODIFIED:20241216T131726Z
UID:1965-1743498000-1743503400@www.giffordgolfclub.com
SUMMARY:EGGS 9 Hole Medal
DESCRIPTION:
URL:https://www.giffordgolfclub.com/event/eggs-9-hole-medal-7/
LOCATION:Gifford Golf Club\, EH41 4JE
CATEGORIES:EGGS
END:VEVENT
BEGIN:VEVENT
DTSTART;TZID=Europe/London:20250405T140000
DTEND;TZID=Europe/London:20250405T153000
DTSTAMP:20260421T141205
CREATED:20241217T175406Z
LAST-MODIFIED:20241217T175406Z
UID:1971-1743861600-1743867000@www.giffordgolfclub.com
SUMMARY:Junior Two Person Texas Scramble
DESCRIPTION:
URL:https://www.giffordgolfclub.com/event/junior-two-person-texas-scramble/
LOCATION:Gifford Golf Club\, EH41 4JE
CATEGORIES:Juniors
END:VEVENT
BEGIN:VEVENT
DTSTART;TZID=Europe/London:20250406T080000
DTEND;TZID=Europe/London:20250406T130000
DTSTAMP:20260421T141205
CREATED:20241217T175556Z
LAST-MODIFIED:20241217T175610Z
UID:1973-1743926400-1743944400@www.giffordgolfclub.com
SUMMARY:18 Hole Strokeplay Medal (Mixed)
DESCRIPTION:
URL:https://www.giffordgolfclub.com/event/18-hole-strokeplay-medal-mixed/
LOCATION:Gifford Golf Club\, EH41 4JE
CATEGORIES:Gents,Juniors,Ladies
END:VEVENT
BEGIN:VEVENT
DTSTART;TZID=Europe/London:20250408T130000
DTEND;TZID=Europe/London:20250408T140000
DTSTAMP:20260421T141205
CREATED:20241217T175728Z
LAST-MODIFIED:20241217T175728Z
UID:1975-1744117200-1744120800@www.giffordgolfclub.com
SUMMARY:Ladies Stableford 9 + 18 Holes & Turn Up
DESCRIPTION:
URL:https://www.giffordgolfclub.com/event/ladies-stableford-9-18-holes-turn-up/
LOCATION:Gifford Golf Club\, EH41 4JE
CATEGORIES:Ladies
END:VEVENT
BEGIN:VEVENT
DTSTART;TZID=Europe/London:20250409T080000
DTEND;TZID=Europe/London:20250409T170000
DTSTAMP:20260421T141205
CREATED:20241217T175854Z
LAST-MODIFIED:20241217T175854Z
UID:1977-1744185600-1744218000@www.giffordgolfclub.com
SUMMARY:Masters Par 3 Social Event
DESCRIPTION:
URL:https://www.giffordgolfclub.com/event/masters-par-3-social-event/
LOCATION:Gifford Golf Club\, EH41 4JE
CATEGORIES:Social
END:VEVENT
BEGIN:VEVENT
DTSTART;TZID=Europe/London:20250409T100000
DTEND;TZID=Europe/London:20250409T150000
DTSTAMP:20260421T141205
CREATED:20241217T180057Z
LAST-MODIFIED:20241218T085406Z
UID:1979-1744192800-1744210800@www.giffordgolfclub.com
SUMMARY:Seniors Friendly Match v Haddington (A)
DESCRIPTION:
URL:https://www.giffordgolfclub.com/event/seniors-friendly-match-v-haddington-a/
LOCATION:Haddington Golf Club\, EH41 4PT
CATEGORIES:Seniors
END:VEVENT
BEGIN:VEVENT
DTSTART;TZID=Europe/London:20250414T130000
DTEND;TZID=Europe/London:20250414T134000
DTSTAMP:20260421T141205
CREATED:20241218T085516Z
LAST-MODIFIED:20241218T085516Z
UID:1982-1744635600-1744638000@www.giffordgolfclub.com
SUMMARY:Woodhead Shield I - 9 Hole Stableford
DESCRIPTION:
URL:https://www.giffordgolfclub.com/event/woodhead-shield-i-9-hole-stableford/
LOCATION:Gifford Golf Club\, EH41 4JE
CATEGORIES:Juniors
END:VEVENT
BEGIN:VEVENT
DTSTART;TZID=Europe/London:20250419T080000
DTEND;TZID=Europe/London:20250419T130000
DTSTAMP:20260421T141205
CREATED:20241218T085706Z
LAST-MODIFIED:20241218T085706Z
UID:1984-1745049600-1745067600@www.giffordgolfclub.com
SUMMARY:18 Hole Strokeplay Medal & 1st Championship Qualifier (including Molly Glover Bowl & Junior Championship)
DESCRIPTION:
URL:https://www.giffordgolfclub.com/event/18-hole-strokeplay-medal-1st-championship-qualifier-including-molly-glover-bowl-junior-championship/
LOCATION:Gifford Golf Club\, EH41 4JE
CATEGORIES:Gents,Juniors,Ladies
END:VEVENT
BEGIN:VEVENT
DTSTART;TZID=Europe/London:20250426T000000
DTEND;TZID=Europe/London:20250427T235959
DTSTAMP:20260421T141205
CREATED:20241218T085822Z
LAST-MODIFIED:20241218T085822Z
UID:1986-1745625600-1745798399@www.giffordgolfclub.com
SUMMARY:Ladies Weekend Away
DESCRIPTION:
URL:https://www.giffordgolfclub.com/event/ladies-weekend-away-2/
LOCATION:TBC
CATEGORIES:Ladies
END:VEVENT
BEGIN:VEVENT
DTSTART;TZID=Europe/London:20250426T140000
DTEND;TZID=Europe/London:20250426T144000
DTSTAMP:20260421T141205
CREATED:20241218T085923Z
LAST-MODIFIED:20241218T085923Z
UID:1989-1745676000-1745678400@www.giffordgolfclub.com
SUMMARY:Watt Cup I - 18 Hole Strokeplay
DESCRIPTION:
URL:https://www.giffordgolfclub.com/event/watt-cup-i-18-hole-strokeplay/
LOCATION:Gifford Golf Club\, EH41 4JE
CATEGORIES:Juniors
END:VEVENT
END:VCALENDAR